BEGIN:VCALENDAR
VERSION:2.0
PRODID:-//Tukios.com/
BEGIN:VEVENT
UID:f97d63ca-fd38-496e-aec2-e9f2567ab19f@www.averystortifuneralhome.com
DTSTAMP:20260423T002850Z
DTSTART:20260427T200000Z
DTEND:20260427T230000Z
SUMMARY:Visitation
DESCRIPTION:
URL:https://www.averystortifuneralhome.com/obituaries/patricia-wright
LOCATION:Avery-Storti Funeral Home & Crematory 88 Colombia St  Wakefield 
	RI 02879
GEO:41.4431746;-71.496093
END:VEVENT
END:VCALENDAR