BEGIN:VCALENDAR
VERSION:2.0
PRODID:-//Tukios.com/
BEGIN:VEVENT
UID:66e88379-24dc-4a18-8325-a2d1bf63d402@www.averystortifuneralhome.com
DTSTAMP:20260423T002721Z
DTSTART:20260428T140000Z
DTEND:20260428T150000Z
SUMMARY:Mass
DESCRIPTION:
URL:https://www.averystortifuneralhome.com/obituaries/patricia-wright
LOCATION:St. Veronica Chapel 1035 Boston Neck Road  Narragansett RI 02882
GEO:41.4827662;-71.4358859
END:VEVENT
END:VCALENDAR